BEGIN:VCALENDAR
VERSION:2.0
PRODID:-//Volcano Golf Course - ECPv6.15.18//NONSGML v1.0//EN
CALSCALE:GREGORIAN
METHOD:PUBLISH
X-WR-CALNAME:Volcano Golf Course
X-ORIGINAL-URL:https://www.volcanogc.com
X-WR-CALDESC:Events for Volcano Golf Course
REFRESH-INTERVAL;VALUE=DURATION:PT1H
X-Robots-Tag:noindex
X-PUBLISHED-TTL:PT1H
BEGIN:VTIMEZONE
TZID:UTC
BEGIN:STANDARD
TZOFFSETFROM:+0000
TZOFFSETTO:+0000
TZNAME:UTC
DTSTART:20260101T000000
END:STANDARD
END:VTIMEZONE
BEGIN:VEVENT
DTSTART;TZID=UTC:20270104T160000
DTEND;TZID=UTC:20270104T160000
DTSTAMP:20260420T105849
CREATED:20260303T183227Z
LAST-MODIFIED:20260303T202126Z
UID:10000062-1799078400-1799078400@www.volcanogc.com
SUMMARY:Trivia Night at KMC
DESCRIPTION:
URL:https://www.volcanogc.com/event/trivia-night-at-kmc/2027-01-04/
END:VEVENT
BEGIN:VEVENT
DTSTART;TZID=UTC:20270111T160000
DTEND;TZID=UTC:20270111T160000
DTSTAMP:20260420T105849
CREATED:20260303T183227Z
LAST-MODIFIED:20260303T202126Z
UID:10000063-1799683200-1799683200@www.volcanogc.com
SUMMARY:Trivia Night at KMC
DESCRIPTION:
URL:https://www.volcanogc.com/event/trivia-night-at-kmc/2027-01-11/
END:VEVENT
BEGIN:VEVENT
DTSTART;TZID=UTC:20270118T160000
DTEND;TZID=UTC:20270118T160000
DTSTAMP:20260420T105849
CREATED:20260303T183227Z
LAST-MODIFIED:20260303T202126Z
UID:10000064-1800288000-1800288000@www.volcanogc.com
SUMMARY:Trivia Night at KMC
DESCRIPTION:
URL:https://www.volcanogc.com/event/trivia-night-at-kmc/2027-01-18/
END:VEVENT
BEGIN:VEVENT
DTSTART;TZID=UTC:20270125T160000
DTEND;TZID=UTC:20270125T160000
DTSTAMP:20260420T105849
CREATED:20260303T183227Z
LAST-MODIFIED:20260303T202126Z
UID:10000065-1800892800-1800892800@www.volcanogc.com
SUMMARY:Trivia Night at KMC
DESCRIPTION:
URL:https://www.volcanogc.com/event/trivia-night-at-kmc/2027-01-25/
END:VEVENT
END:VCALENDAR